BEGIN:VCALENDAR
VERSION:2.0
PRODID:-//Plone.org//NONSGML plone.app.event//EN
X-WR-TIMEZONE:Brazil/East
BEGIN:VEVENT
SUMMARY:Assembleia Geral Extraordinária do Sindijetibá
DTSTART;TZID=Brazil/East;VALUE=DATE-TIME:20180928T170000
DTEND;TZID=Brazil/East;VALUE=DATE-TIME:20180928T190000
DTSTAMP;VALUE=DATE-TIME:20260420T181220Z
UID:2c3045cf3cdf42198b84ed067caf3421@santamariadejetiba.es.leg.br
CONTACT:Helice de Fátima Souza\, 27 3263-2061 ou 9 9962-7571
CREATED;VALUE=DATE-TIME:20180927T131258Z
DESCRIPTION:O Sindicato dos Servidores Públicos Municipais de Santa Maria
  de Jetibá\, realizará uma Assembleia Geral Extraordinária referente a 
 Eleições Sindicais para o triênio 2019/2021. O evento ocorrerá no Plen
 ário Dr. Floriano Guilherme da Câmara Municipal de Santa Maria de Jetib
 á.
LAST-MODIFIED;VALUE=DATE-TIME:20180927T131309Z
LOCATION:Câmara Municipal de Santa Maria de Jetibá
URL:https://www.santamariadejetiba.es.leg.br/institucional/eventos/assembl
 eia-geral-extraordinaria-do-sindijetiba
END:VEVENT
BEGIN:VTIMEZONE
TZID:Brazil/East
X-LIC-LOCATION:Brazil/East
BEGIN:STANDARD
DTSTART;VALUE=DATE-TIME:20180217T230000
TZNAME:BRT
TZOFFSETFROM:-0200
TZOFFSETTO:-0300
END:STANDARD
END:VTIMEZONE
END:VCALENDAR
