BEGIN:VCALENDAR
VERSION:2.0
PRODID:-//Plone.org//NONSGML plone.app.event//EN
X-WR-TIMEZONE:Brazil/East
BEGIN:VEVENT
SUMMARY:VIII Conferência Municipal dos Direitos da Criança e do Adolesce
 nte
DTSTART;TZID=Brazil/East;VALUE=DATE-TIME:20180905T073000
DTEND;TZID=Brazil/East;VALUE=DATE-TIME:20180905T170000
DTSTAMP;VALUE=DATE-TIME:20260419T115437Z
UID:9375512655c84479bd420a2ce4ae926c@santamariadejetiba.es.leg.br
CREATED;VALUE=DATE-TIME:20180731T112447Z
LAST-MODIFIED;VALUE=DATE-TIME:20180731T120331Z
URL:https://www.santamariadejetiba.es.leg.br/institucional/eventos/viconfe
 rencia-nacional-dos-direitos-da-crianca-e-do-adolescente
END:VEVENT
BEGIN:VTIMEZONE
TZID:Brazil/East
X-LIC-LOCATION:Brazil/East
BEGIN:STANDARD
DTSTART;VALUE=DATE-TIME:20180217T230000
TZNAME:BRT
TZOFFSETFROM:-0200
TZOFFSETTO:-0300
END:STANDARD
END:VTIMEZONE
END:VCALENDAR
